BEGIN:VCALENDAR
PRODID:Tvrtko – Csernobil 40
VERSION:2.0
CALSCALE:GREGORIAN
BEGIN:VEVENT
UID:bff66a446f8f522903c42ad8d47a4858
DTSTAMP:20260421T223313Z
SUMMARY:Tvrtko – Csernobil 40
DTSTART;TZID=Europe/Budapest:20260515T190000
DTEND;TZID=Europe/Budapest:20260515T210000
LOCATION:Lovarda
END:VEVENT
END:VCALENDAR
